BEGIN:VCALENDAR
VERSION:2.0
PRODID:-//Islamic International Medical College Trust (IIMCT) - ECPv5.8.1//NONSGML v1.0//EN
CALSCALE:GREGORIAN
METHOD:PUBLISH
X-WR-CALNAME:Islamic International Medical College Trust (IIMCT)
X-ORIGINAL-URL:https://www.iimct.org
X-WR-CALDESC:Events for Islamic International Medical College Trust (IIMCT)
BEGIN:VTIMEZONE
TZID:UTC
BEGIN:STANDARD
TZOFFSETFROM:+0000
TZOFFSETTO:+0000
TZNAME:UTC
DTSTART:20190101T000000
END:STANDARD
END:VTIMEZONE
BEGIN:VEVENT
DTSTART;TZID=UTC:20200101T100000
DTEND;TZID=UTC:20200101T163000
DTSTAMP:20260425T153530
CREATED:20180816T115715Z
LAST-MODIFIED:20210415T103941Z
UID:5989-1577872800-1577896200@www.iimct.org
SUMMARY:3rd International Conference on Recent Innovation in Pharmaceutical Sciences - 2019
DESCRIPTION:The 3rd International Conference on recent innovations in pharmaceutical sciences ICRIPS 2019 organized by Faculty of Pharmaceutical Sciences held at Margalla Hotel\, Islamabad. The inauguration session was started with the recitation of Holy Quran. The ceremony was honored by the presence of chief guest Prof. Dr. Muhammad Ali\, Vice Chancellor\, Quaid-i-Azam University\, Islamabad\, guest of honor Prof. Dr. Ghulam Raza Bhatti\, Member operations and planning\, HEC\, Islamabad and Chancellor Riphah International University\, Mr. Hassan Muhammad Khan.\nWhile addressing\, Prof. Dr. Muhammad Ali emphasized on research output in country whereas Prof. Dr. Ghulam Raza Bhatti talked about HEC policies regarding research and liaison with research institutes. The chancellor RIU\, Mr. Hassan Muhammad Khan emphasized on applied research with specific focus to decrease thedisease burden of our country.\nThere were 33 oral presentations including international and national speakers and 52 posters presenters comprising both graduates and undergraduate students from different universities around the country. Three workshops on Pharmacogenomics\, Bioinformatics and Pharmacy practice were held on the first and second days. The oral talks covered the majority of the sections and topics related to pharmaceutical innovation and research\, namely\, drug discovery and development\, emerging trends in nanomedicine\, natural products and pharmaceutical analysis. The poster competition winners were also awarded with certificates and cash prizes.
URL:https://www.iimct.org/event/kingsters-alumni-hot-air-ballon-trip-in-turkey/
LOCATION:Riphah Islamabad Campus\, Pakistan
ATTACH;FMTTYPE=image/jpeg:https://www.iimct.org/wp-content/uploads/2019/10/2.jpg
ORGANIZER;CN="Kingster%27s%20Social%20Club":MAILTO:clubs@kingsteruni.edu
END:VEVENT
BEGIN:VEVENT
DTSTART;TZID=UTC:20191217T130000
DTEND;TZID=UTC:20191217T170000
DTSTAMP:20260425T153530
CREATED:20180816T115533Z
LAST-MODIFIED:20210415T104006Z
UID:5986-1576587600-1576602000@www.iimct.org
SUMMARY:International Conference on Patient Safety (ICPS)
DESCRIPTION:International Conference on Patient Safety (ICPS) a project of Riphah International University (RIU) and is organized by Riphah Institute of Healthcare Improvement & Safety (RIHIS). Respected Chancellor / MT\, Mr. Hassan Muhammad Khan is the Patron and Dr. Zakiuddin Ahmed\, Project Director RIHIS is the Chairman of ICPS and ICPS UAE. \nThe objectives of the conference are:\n• To help in developing a patient-centric mindset\, create awareness about patient safety\, medical errors and healthcare quality in Pakistan and in the region.\n• International Conference on Patient Safety brings together people who are passionate about ensuring safe care equitably for all across the globe.\n• It also aims to educate the attendees about the current challenges in healthcare\, provide an insight on the latest trends and to explore the future of patient safety and healthcare science.\n• It aims to sensitize participants and institutions to the glaring need of improving our systems and make the healthcare delivery system safer. \nRiphah International University has been organizing the International Conference on Patient Safety (ICPS) on annual basis since 2016.\n• In 2016 1st ICPS at PC Rawalpindi\, with the theme “Patient Safety – Right or Privilege”\n• In 2017 2nd ICPS at Agha Khan University\, Karachi\, with the theme “Value Based Healthcare”\n• In 2018 3rd ICPS at CMH Lahore with the theme “From Knowledge to Improvement”\n• In 2019 4th ICPS at Rawalpindi Medical University\, Rawalpindi\, with the theme “Speak Up for Patient Safety”\n• In 2019 ICPS UAE at RAK College of Dental Sciences\, Ras Al Khaimah\, UAE
URL:https://www.iimct.org/event/fintech-key-investment-conference/
LOCATION:Riphah Islamabad Campus\, Pakistan
ATTACH;FMTTYPE=image/jpeg:https://www.iimct.org/wp-content/uploads/2019/10/3.jpg
ORGANIZER;CN="Kingster%27s%20Social%20Club":MAILTO:clubs@kingsteruni.edu
END:VEVENT
BEGIN:VEVENT
DTSTART;TZID=UTC:20191104T130000
DTEND;TZID=UTC:20191104T170000
DTSTAMP:20260425T153530
CREATED:20180816T115247Z
LAST-MODIFIED:20180816T115247Z
UID:5984-1572872400-1572886800@www.iimct.org
SUMMARY:Sport Management Information Webinar
DESCRIPTION:Far far away\, behind the word mountains\, far from the countries Vokalia and Consonantia\, there live the blind texts. Separated they live in Bookmarksgrove right at the coast of the Semantics\, a large language ocean. A small river named Duden flows by their place and supplies it with the necessary regelialia. It is a paradisematic country\, in which roasted parts of sentences fly into your mouth. Even the all-powerful Pointing has no control about the blind texts it is an almost unorthographic life One day however a small line of blind text by the name
URL:https://www.iimct.org/event/sport-management-information-webinar/
LOCATION:Kingster Grand Hall\, 1810 Campus Way NE Bothell\, Washington\, United States
ATTACH;FMTTYPE=image/jpeg:https://www.iimct.org/wp-content/uploads/2018/08/page-title-athletics.jpg
ORGANIZER;CN="Kingster%27s%20Social%20Club":MAILTO:clubs@kingsteruni.edu
END:VEVENT
BEGIN:VEVENT
DTSTART;TZID=UTC:20190911T080000
DTEND;TZID=UTC:20190911T123000
DTSTAMP:20260425T153530
CREATED:20180816T115159Z
LAST-MODIFIED:20180816T115159Z
UID:5982-1568188800-1568205000@www.iimct.org
SUMMARY:Planning and Facilitating Effective Meetings
DESCRIPTION:Far far away\, behind the word mountains\, far from the countries Vokalia and Consonantia\, there live the blind texts. Separated they live in Bookmarksgrove right at the coast of the Semantics\, a large language ocean. A small river named Duden flows by their place and supplies it with the necessary regelialia. It is a paradisematic country\, in which roasted parts of sentences fly into your mouth. Even the all-powerful Pointing has no control about the blind texts it is an almost unorthographic life One day however a small line of blind text by the name
URL:https://www.iimct.org/event/planning-and-facilitating-effective-meetings/
LOCATION:Kingster Grand Hall\, 1810 Campus Way NE Bothell\, Washington\, United States
ATTACH;FMTTYPE=image/jpeg:https://www.iimct.org/wp-content/uploads/2018/08/shutterstock_59887279.jpg
ORGANIZER;CN="Kingster%27s%20Social%20Club":MAILTO:clubs@kingsteruni.edu
END:VEVENT
BEGIN:VEVENT
DTSTART;TZID=UTC:20190902T080000
DTEND;TZID=UTC:20190902T170000
DTSTAMP:20260425T153530
CREATED:20180816T114427Z
LAST-MODIFIED:20180816T114427Z
UID:5976-1567411200-1567443600@www.iimct.org
SUMMARY:Asia Pacific Studies Fall Festival
DESCRIPTION:Far far away\, behind the word mountains\, far from the countries Vokalia and Consonantia\, there live the blind texts. Separated they live in Bookmarksgrove right at the coast of the Semantics\, a large language ocean. A small river named Duden flows by their place and supplies it with the necessary regelialia. It is a paradisematic country\, in which roasted parts of sentences fly into your mouth. Even the all-powerful Pointing has no control about the blind texts it is an almost unorthographic life One day however a small line of blind text by the name
URL:https://www.iimct.org/event/asia-pacific-studies-fall-festival/
LOCATION:Kingster Grand Hall\, 1810 Campus Way NE Bothell\, Washington\, United States
ATTACH;FMTTYPE=image/jpeg:https://www.iimct.org/wp-content/uploads/2016/06/shutterstock_218235004.jpg
ORGANIZER;CN="Kingster%27s%20Social%20Club":MAILTO:clubs@kingsteruni.edu
END:VEVENT
END:VCALENDAR