BEGIN:VCALENDAR
VERSION:2.0
PRODID:-//Islamic International Medical College Trust (IIMCT) - ECPv5.8.1//NONSGML v1.0//EN
CALSCALE:GREGORIAN
METHOD:PUBLISH
X-WR-CALNAME:Islamic International Medical College Trust (IIMCT)
X-ORIGINAL-URL:https://www.iimct.org
X-WR-CALDESC:Events for Islamic International Medical College Trust (IIMCT)
BEGIN:VTIMEZONE
TZID:UTC
BEGIN:STANDARD
TZOFFSETFROM:+0000
TZOFFSETTO:+0000
TZNAME:UTC
DTSTART:20230101T000000
END:STANDARD
END:VTIMEZONE
BEGIN:VEVENT
DTSTART;TZID=UTC:20231007T090000
DTEND;TZID=UTC:20231010T170000
DTSTAMP:20260422T102827
CREATED:20250225T054959Z
LAST-MODIFIED:20250225T065953Z
UID:8944-1696669200-1696957200@www.iimct.org
SUMMARY:8th International Conference on Medical Education
DESCRIPTION:Transforming Health Professions Education: Trends\, Challenges and Solutions \nThe 8th International Conference on Medical Education (ICME) 2023 held from October 7th to 10th in the beautiful city of Baku\, Azerbaijan\, marked a significant milestone in the world of medical education. This conference\, organized through a fruitful collaboration between Riphah International University and Azerbaijan Medical University\, was a resounding success\, with robust participation and rich content. ICME 2023 was a comprehensive event featuring 33 pre-conference workshops and 4 courses\, aimed at enhancing participants’ understanding of medical education issues and strategies. The conference also highlighted 111 research presentations\, consisting of 96 oral and 15 poster presentations\, covering diverse topics ranging from curriculum development to innovative teaching methods. Moreover\, 8 interactive conference workshops provided attendees with hands-on experiences and valuable knowledge sharing opportunities. ICME 2023 achieved a significant milestone by being accredited by the European Accreditation Council for Continuing Medical Education (EACCME). This accreditation\, awarded 24.5 CME Credits to the conference\, attests to the exceptional quality of the event and its educational content.
URL:https://www.iimct.org/event/8th-international-conference-on-medical-education/
LOCATION:Baku\, Azerbaijan\, Azerbaijan
ATTACH;FMTTYPE=image/jpeg:https://www.iimct.org/wp-content/uploads/2025/02/icme5.jpg
END:VEVENT
END:VCALENDAR