BEGIN:VCALENDAR
VERSION:2.0
PRODID:-//Islamic International Medical College Trust (IIMCT) - ECPv5.8.1//NONSGML v1.0//EN
CALSCALE:GREGORIAN
METHOD:PUBLISH
X-WR-CALNAME:Islamic International Medical College Trust (IIMCT)
X-ORIGINAL-URL:https://www.iimct.org
X-WR-CALDESC:Events for Islamic International Medical College Trust (IIMCT)
BEGIN:VTIMEZONE
TZID:UTC
BEGIN:STANDARD
TZOFFSETFROM:+0000
TZOFFSETTO:+0000
TZNAME:UTC
DTSTART:20190101T000000
END:STANDARD
END:VTIMEZONE
BEGIN:VEVENT
DTSTART;TZID=UTC:20191217T130000
DTEND;TZID=UTC:20191217T170000
DTSTAMP:20260425T012741
CREATED:20180816T115533Z
LAST-MODIFIED:20210415T104006Z
UID:5986-1576587600-1576602000@www.iimct.org
SUMMARY:International Conference on Patient Safety (ICPS)
DESCRIPTION:International Conference on Patient Safety (ICPS) a project of Riphah International University (RIU) and is organized by Riphah Institute of Healthcare Improvement & Safety (RIHIS). Respected Chancellor / MT\, Mr. Hassan Muhammad Khan is the Patron and Dr. Zakiuddin Ahmed\, Project Director RIHIS is the Chairman of ICPS and ICPS UAE. \nThe objectives of the conference are:\n• To help in developing a patient-centric mindset\, create awareness about patient safety\, medical errors and healthcare quality in Pakistan and in the region.\n• International Conference on Patient Safety brings together people who are passionate about ensuring safe care equitably for all across the globe.\n• It also aims to educate the attendees about the current challenges in healthcare\, provide an insight on the latest trends and to explore the future of patient safety and healthcare science.\n• It aims to sensitize participants and institutions to the glaring need of improving our systems and make the healthcare delivery system safer. \nRiphah International University has been organizing the International Conference on Patient Safety (ICPS) on annual basis since 2016.\n• In 2016 1st ICPS at PC Rawalpindi\, with the theme “Patient Safety – Right or Privilege”\n• In 2017 2nd ICPS at Agha Khan University\, Karachi\, with the theme “Value Based Healthcare”\n• In 2018 3rd ICPS at CMH Lahore with the theme “From Knowledge to Improvement”\n• In 2019 4th ICPS at Rawalpindi Medical University\, Rawalpindi\, with the theme “Speak Up for Patient Safety”\n• In 2019 ICPS UAE at RAK College of Dental Sciences\, Ras Al Khaimah\, UAE
URL:https://www.iimct.org/event/fintech-key-investment-conference/
LOCATION:Riphah Islamabad Campus\, Pakistan
ATTACH;FMTTYPE=image/jpeg:https://www.iimct.org/wp-content/uploads/2019/10/3.jpg
ORGANIZER;CN="Kingster%27s%20Social%20Club":MAILTO:clubs@kingsteruni.edu
END:VEVENT
END:VCALENDAR